BEGIN:VCALENDAR
VERSION:2.0
BEGIN:VEVENT
URL:https://maxwattstickets.oztix.com.au/outlet/event/09395c8a-a574-43cd-983b-ac6d3d80f19b
DTSTART:20261023T090000Z
DTEND:20261023T090000Z
SUMMARY:EVERGREY 2026 AUSTRALIAN TOUR
DESCRIPTION:Event details: https://maxwattstickets.oztix.com.au/outlet/event/09395c8a-a574-43cd-983b-ac6d3d80f19b
LOCATION:Max Watt's Melbourne (Melbourne, VIC)
END:VEVENT
END:VCALENDAR