BEGIN:VCALENDAR
VERSION:2.0
BEGIN:VEVENT
URL:https://maxwattstickets.oztix.com.au/outlet/event/3d99ff7a-6073-446a-a08b-972e0afea281
DTSTART:20260521T093000Z
DTEND:20260521T093000Z
SUMMARY:Aries 'Glass Jaw' World Tour
DESCRIPTION:Event details: https://maxwattstickets.oztix.com.au/outlet/event/3d99ff7a-6073-446a-a08b-972e0afea281
LOCATION:Max Watt's Melbourne (Melbourne, VIC)
END:VEVENT
END:VCALENDAR